BEGIN:VCALENDAR
VERSION:2.0
PRODID:-//Vivere Vital - Buchungs-Seite
CALSCALE:GREGORIAN
METHOD:PUBLISH
X-WR-CALNAME:Vivere Vital - Buchungs-Seite
X-ORIGINAL-URL:https://shop.vivere-vital.de/produkt/online-meditationskurs-yoga-nidra-einzeltermin/
X-WR-CALDESC:Online &#8211; Meditationskurs: Yoga Nidra | Einzeltermin
BEGIN:VTIMEZONE
TZID:Europe/Helsinki
END:VTIMEZONE
BEGIN:VEVENT
DTSTART;TZID=Europe/Helsinki:20261215T190000
DTEND;TZID=Europe/Helsinki:20261215T193000
DTSTAMP:20260421T124707
UID:37308-simon.meyer78@gmail.com
SUMMARY:Online – Meditationskurs: Yoga Nidra | Einzeltermin
DESCRIPTION:Online Meditationskurs zum Thema Yoga Nidra - geführte Tiefenentspannung für Körper &amp; Geist. Stress abbauen, besser schlafen &amp; neue Energie tanken | mit Sophie.
URL:https://shop.vivere-vital.de/produkt/online-meditationskurs-yoga-nidra-einzeltermin/
LOCATION:online bei dir zu Hause
END:VEVENT
END:VCALENDAR
