BEGIN:VCALENDAR
VERSION:2.0
PRODID:-//Vivere Vital - Buchungs-Seite
CALSCALE:GREGORIAN
METHOD:PUBLISH
X-WR-CALNAME:Vivere Vital - Buchungs-Seite
X-ORIGINAL-URL:https://shop.vivere-vital.de/produkt/online-meditationskurs-choiceless-awareness-einzeltermin/
X-WR-CALDESC:Online &#8211; Meditationskurs: Choiceless Awareness | Einzeltermin
BEGIN:VTIMEZONE
TZID:Europe/Helsinki
END:VTIMEZONE
BEGIN:VEVENT
DTSTART;TZID=Europe/Helsinki:20261208T190000
DTEND;TZID=Europe/Helsinki:20261208T193000
DTSTAMP:20260421T124647
UID:37307-simon.meyer78@gmail.com
SUMMARY:Online – Meditationskurs: Choiceless Awareness | Einzeltermin
DESCRIPTION:Online Meditationskurs zum Thema Choiceless Awareness - mehr Präsenz, Akzeptanz &amp; innere Weite | mit Sophie.
URL:https://shop.vivere-vital.de/produkt/online-meditationskurs-choiceless-awareness-einzeltermin/
LOCATION:online bei dir zu Hause
END:VEVENT
END:VCALENDAR
