BEGIN:VCALENDAR
VERSION:2.0
PRODID:-//Vivere Vital - Buchungs-Seite
CALSCALE:GREGORIAN
METHOD:PUBLISH
X-WR-CALNAME:Vivere Vital - Buchungs-Seite
X-ORIGINAL-URL:https://shop.vivere-vital.de/produkt/online-meditationskurs-fokusmeditation-einzeltermin/
X-WR-CALDESC:Online &#8211; Meditationskurs: Fokusmeditation | Einzeltermin
BEGIN:VTIMEZONE
TZID:Europe/Helsinki
END:VTIMEZONE
BEGIN:VEVENT
DTSTART;TZID=Europe/Helsinki:20261124T190000
DTEND;TZID=Europe/Helsinki:20261124T193000
DTSTAMP:20260421T124707
UID:37304-simon.meyer78@gmail.com
SUMMARY:Online – Meditationskurs: Fokusmeditation | Einzeltermin
DESCRIPTION:Online Meditationskurs zum Thema Fokusmeditation - Konzentration vertiefen, Klarheit finden &amp; Gedanken beruhigen | mit Sophie.
URL:https://shop.vivere-vital.de/produkt/online-meditationskurs-fokusmeditation-einzeltermin/
LOCATION:online bei dir zu Hause
END:VEVENT
END:VCALENDAR
