BEGIN:VCALENDAR
VERSION:2.0
PRODID:-//Vivere Vital - Buchungs-Seite
CALSCALE:GREGORIAN
METHOD:PUBLISH
X-WR-CALNAME:Vivere Vital - Buchungs-Seite
X-ORIGINAL-URL:https://shop.vivere-vital.de/produkt/neujahrsretreat-silvester-yoga-im-kloster-zum-jahreswechsel/
X-WR-CALDESC:Jahresausklang &#8211; Soul Yoga Retreat zum Jahreswechsel mit Meditation &amp; Wandern
BEGIN:VTIMEZONE
TZID:Europe/Helsinki
END:VTIMEZONE
BEGIN:VEVENT
DTSTART;TZID=Europe/Helsinki:20261227T180000
DTEND;TZID=Europe/Helsinki:20270101T130000
DTSTAMP:20260421T100350
UID:37233-simon.meyer78@gmail.com
SUMMARY:Jahresausklang – Soul Yoga Retreat zum Jahreswechsel mit Meditation & Wandern
DESCRIPTION:Dein Jahresausklang | Verabschiede liebevoll das Jahr mit Yoga, Achtsamkeit und Wandern inmitten der bezaubernden Eifel mit Andrea.
URL:https://shop.vivere-vital.de/produkt/neujahrsretreat-silvester-yoga-im-kloster-zum-jahreswechsel/
LOCATION:Kloster Steinfeld, Hermann-Josef-Str. 4, 53925 Kall-Steinfeld
END:VEVENT
END:VCALENDAR
