BEGIN:VCALENDAR
VERSION:2.0
PRODID:-//Vivere Vital - Buchungs-Seite
CALSCALE:GREGORIAN
METHOD:PUBLISH
X-WR-CALNAME:Vivere Vital - Buchungs-Seite
X-ORIGINAL-URL:https://shop.vivere-vital.de/produkt/soul-yoga-neujahrsretreat-mit-herz-yoga-entspannung-wandern-im-kloster/
X-WR-CALDESC:Silvester &amp; Neujahr Retreat: Soul &amp; Yin Yoga, Entspannung &amp; Wandern im Kloster
BEGIN:VTIMEZONE
TZID:Europe/Helsinki
END:VTIMEZONE
BEGIN:VEVENT
DTSTART;TZID=Europe/Helsinki:20261229T170000
DTEND;TZID=Europe/Helsinki:20270103T130000
DTSTAMP:20260421T113702
UID:37215-simon.meyer78@gmail.com
SUMMARY:Silvester & Neujahr Retreat: Soul & Yin Yoga, Entspannung & Wandern im Kloster
DESCRIPTION:Loslassen &amp; Neubeginn mit Herz Yoga, Entspannung und  Wandern im Kloster Steinfeld | mit Nicola.
URL:https://shop.vivere-vital.de/produkt/soul-yoga-neujahrsretreat-mit-herz-yoga-entspannung-wandern-im-kloster/
LOCATION:Kloster Steinfeld, Hermann-Josef-Str. 4, 53925 Kall-Steinfeld
END:VEVENT
END:VCALENDAR
