BEGIN:VCALENDAR
VERSION:2.0
PRODID:-//Vivere Vital - Buchungs-Seite
CALSCALE:GREGORIAN
METHOD:PUBLISH
X-WR-CALNAME:Vivere Vital - Buchungs-Seite
X-ORIGINAL-URL:https://shop.vivere-vital.de/produkt/soul-yoga-retreat-kloster-juli-2026/
X-WR-CALDESC:Soul &#038; releasing Yin Yoga Retreat im Kloster mit Meditation &#038; Wandern – Balance &#038; Entspannung mit Klangschalen
BEGIN:VTIMEZONE
TZID:Europe/Helsinki
END:VTIMEZONE
BEGIN:VEVENT
DTSTART;TZID=Europe/Helsinki:20260719T180000
DTEND;TZID=Europe/Helsinki:20260724T130000
DTSTAMP:20260421T100350
UID:37083-simon.meyer78@gmail.com
SUMMARY:Soul & releasing Yin Yoga Retreat im Kloster mit Meditation & Wandern – Balance & Entspannung mit Klangschalen
DESCRIPTION:Erholung und Balance - Soul Motion &amp; releasing Yin Yoga Retreat, Meditation &amp; Entspannung mit Klangschalen mit Tanja.
URL:https://shop.vivere-vital.de/produkt/soul-yoga-retreat-kloster-juli-2026/
LOCATION:Kloster Steinfeld, Hermann-Josef-Str. 4, 53925 Kall-Steinfeld
END:VEVENT
END:VCALENDAR
