BEGIN:VCALENDAR
VERSION:2.0
PRODID:-//Vivere Vital - Buchungs-Seite
CALSCALE:GREGORIAN
METHOD:PUBLISH
X-WR-CALNAME:Vivere Vital - Buchungs-Seite
X-ORIGINAL-URL:https://shop.vivere-vital.de/produkt/slow-yoga-retreat-kloster-achtsamkeit/
X-WR-CALDESC:Slow Yoga mit Achtsamkeit &amp; Meditation &#8211; innere Ruhe stärken
BEGIN:VTIMEZONE
TZID:Europe/Helsinki
END:VTIMEZONE
BEGIN:VEVENT
DTSTART;TZID=Europe/Helsinki:20260619T180000
DTEND;TZID=Europe/Helsinki:20260621T130000
DTSTAMP:20260421T124648
UID:36973-simon.meyer78@gmail.com
SUMMARY:Slow Yoga mit Achtsamkeit & Meditation – innere Ruhe stärken
DESCRIPTION:Stärke bei diesem achtsamen Yoga Retreat Deine innere Ruhe &amp; tanke neue Energie. &nbsp;
URL:https://shop.vivere-vital.de/produkt/slow-yoga-retreat-kloster-achtsamkeit/
LOCATION:Kloster Steinfeld, Hermann-Josef-Str. 4, 53925 Kall-Steinfeld
END:VEVENT
END:VCALENDAR
