BEGIN:VCALENDAR
VERSION:2.0
PRODID:-//Vivere Vital - Buchungs-Seite
CALSCALE:GREGORIAN
METHOD:PUBLISH
X-WR-CALNAME:Vivere Vital - Buchungs-Seite
X-ORIGINAL-URL:https://shop.vivere-vital.de/produkt/slow-yin-yoga-retreat-im-kloster-soundhealing-mit-klangschalen-crystal-bowls/
X-WR-CALDESC:Slow &amp; Yin Yoga Retreat im Kloster &#8211; Entspannung mit Klangschalen &amp; Crystal Bowls
BEGIN:VTIMEZONE
TZID:Europe/Helsinki
END:VTIMEZONE
BEGIN:VEVENT
DTSTART;TZID=Europe/Helsinki:20261016T180000
DTEND;TZID=Europe/Helsinki:20261018T130000
DTSTAMP:20260421T100532
UID:36957-simon.meyer78@gmail.com
SUMMARY:Slow & Yin Yoga Retreat im Kloster – Entspannung mit Klangschalen & Crystal Bowls
DESCRIPTION:Slow meets Yin Yoga im Kloster mit Lili | Entspannung und Soundbath genießen im Oktober.
URL:https://shop.vivere-vital.de/produkt/slow-yin-yoga-retreat-im-kloster-soundhealing-mit-klangschalen-crystal-bowls/
LOCATION:Kloster Steinfeld, Hermann-Josef-Str. 4, 53925 Kall-Steinfeld
END:VEVENT
END:VCALENDAR
