BEGIN:VCALENDAR
VERSION:2.0
PRODID:-//Vivere Vital - Buchungs-Seite
CALSCALE:GREGORIAN
METHOD:PUBLISH
X-WR-CALNAME:Vivere Vital - Buchungs-Seite
X-ORIGINAL-URL:https://shop.vivere-vital.de/produkt/relax-yoga-retreat-auszeit-im-kloster-dezember/
X-WR-CALDESC:Relax Yoga Retreat &#8211; Durch Achtsamkeit &amp; Entspannung innere Ruhe stärken für Beruf &amp; Alltag
BEGIN:VTIMEZONE
TZID:Europe/Helsinki
END:VTIMEZONE
BEGIN:VEVENT
DTSTART;TZID=Europe/Helsinki:20261211T180000
DTEND;TZID=Europe/Helsinki:20261213T130000
DTSTAMP:20260421T082727
UID:36734-simon.meyer78@gmail.com
SUMMARY:Relax Yoga Retreat – Durch Achtsamkeit & Entspannung innere Ruhe stärken für Beruf & Alltag
DESCRIPTION:Relax Yoga Retreat im Kloster - Wohlbefinden stärken | mit Katja Sanders.
URL:https://shop.vivere-vital.de/produkt/relax-yoga-retreat-auszeit-im-kloster-dezember/
LOCATION:Kloster Steinfeld, Hermann-Josef-Str. 4, 53925 Kall-Steinfeld
END:VEVENT
END:VCALENDAR
