BEGIN:VCALENDAR
VERSION:2.0
PRODID:-//Vivere Vital - Buchungs-Seite
CALSCALE:GREGORIAN
METHOD:PUBLISH
X-WR-CALNAME:Vivere Vital - Buchungs-Seite
X-ORIGINAL-URL:https://shop.vivere-vital.de/produkt/soul-relax-yin-yoga-retreat-im-kloster-august-nrw/
X-WR-CALDESC:Soul Motion &amp; Relax Yin Yoga &#8211; Mit Meditation &amp; Ritualen Regeneration fördern
BEGIN:VTIMEZONE
TZID:Europe/Helsinki
END:VTIMEZONE
BEGIN:VEVENT
DTSTART;TZID=Europe/Helsinki:20260821T180000
DTEND;TZID=Europe/Helsinki:20260823T130000
DTSTAMP:20260421T145511
UID:36716-simon.meyer78@gmail.com
SUMMARY:Soul Motion & Relax Yin Yoga – Mit Meditation & Ritualen Regeneration fördern
DESCRIPTION:Erholung und innere Balance - Soul &amp; Relax Yin Yoga Retreat &amp; Meditation mit Jana.
URL:https://shop.vivere-vital.de/produkt/soul-relax-yin-yoga-retreat-im-kloster-august-nrw/
LOCATION:Kloster Steinfeld, Hermann-Josef-Str. 4, 53925 Kall-Steinfeld
END:VEVENT
END:VCALENDAR
