BEGIN:VCALENDAR
VERSION:2.0
PRODID:-//Vivere Vital - Buchungs-Seite
CALSCALE:GREGORIAN
METHOD:PUBLISH
X-WR-CALNAME:Vivere Vital - Buchungs-Seite
X-ORIGINAL-URL:https://shop.vivere-vital.de/produkt/bildungsurlaub-am-meer-mit-yoga-und-stressbewaeltigung-september-2026/
X-WR-CALDESC:Resilienz stärken für den (Berufs-)Alltag &#8211; an der Ostsee
BEGIN:VTIMEZONE
TZID:Europe/Helsinki
END:VTIMEZONE
BEGIN:VEVENT
DTSTART;TZID=Europe/Helsinki:20260830T100000
DTEND;TZID=Europe/Helsinki:20260904T160000
DTSTAMP:20260421T143812
UID:36687-simon.meyer78@gmail.com
SUMMARY:Resilienz stärken für den (Berufs-)Alltag – an der Ostsee
DESCRIPTION:Bildungsurlaub am Meer - Ostsee: Yoga und Stressbewältigung für den (Berufs-) Alltag - mit Indira Busse.
URL:https://shop.vivere-vital.de/produkt/bildungsurlaub-am-meer-mit-yoga-und-stressbewaeltigung-september-2026/
LOCATION:Landhaus Ostseeblick, Pottloch 3, 24395 Kronsgaard
END:VEVENT
END:VCALENDAR
