BEGIN:VCALENDAR
VERSION:2.0
PRODID:-//Vivere Vital - Buchungs-Seite
CALSCALE:GREGORIAN
METHOD:PUBLISH
X-WR-CALNAME:Vivere Vital - Buchungs-Seite
X-ORIGINAL-URL:https://shop.vivere-vital.de/produkt/soul-yin-yoga-retreat-klangschalen-crystal-bowls-oktober/
X-WR-CALDESC:Soul &amp; Yin Yoga Retreat – Heilsame Klänge mit Klangschalen &amp; Crystal Bowls
BEGIN:VTIMEZONE
TZID:Europe/Helsinki
END:VTIMEZONE
BEGIN:VEVENT
DTSTART;TZID=Europe/Helsinki:20261023T180000
DTEND;TZID=Europe/Helsinki:20261025T130000
DTSTAMP:20260421T125107
UID:36668-simon.meyer78@gmail.com
SUMMARY:Soul & Yin Yoga Retreat – Heilsame Klänge mit Klangschalen & Crystal Bowls
DESCRIPTION:Soul &amp; Yin Yoga Retreat NRW - Entspannung mit Soundbath | mit Nadine.
URL:https://shop.vivere-vital.de/produkt/soul-yin-yoga-retreat-klangschalen-crystal-bowls-oktober/
LOCATION:Kloster Steinfeld, Hermann-Josef-Str. 4, 53925 Kall-Steinfeld
END:VEVENT
END:VCALENDAR
