BEGIN:VCALENDAR
VERSION:2.0
PRODID:-//Vivere Vital - Buchungs-Seite
CALSCALE:GREGORIAN
METHOD:PUBLISH
X-WR-CALNAME:Vivere Vital - Buchungs-Seite
X-ORIGINAL-URL:https://shop.vivere-vital.de/produkt/bildungsurlaub-mit-yoga-im-kloster-steinfeld-august-2026/
X-WR-CALDESC:Resilienz stärken für den (Berufs-)Alltag &#8211; im Kloster Steinfeld
BEGIN:VTIMEZONE
TZID:Europe/Helsinki
END:VTIMEZONE
BEGIN:VEVENT
DTSTART;TZID=Europe/Helsinki:20260817T100000
DTEND;TZID=Europe/Helsinki:20260821T160000
DTSTAMP:20260421T161249
UID:36645-simon.meyer78@gmail.com
SUMMARY:Resilienz stärken für den (Berufs-)Alltag – im Kloster Steinfeld
DESCRIPTION:Bildungsurlaub im Kloster Steinfeld (Eifel) mit Yoga – Stressbewältigung für Beruf und Alltag – mit Indira
URL:https://shop.vivere-vital.de/produkt/bildungsurlaub-mit-yoga-im-kloster-steinfeld-august-2026/
LOCATION:Kloster Steinfeld, Hermann-Josef-Str. 4, 53925 Kall-Steinfeld
END:VEVENT
END:VCALENDAR
