BEGIN:VCALENDAR
VERSION:2.0
PRODID:-//Vivere Vital - Buchungs-Seite
CALSCALE:GREGORIAN
METHOD:PUBLISH
X-WR-CALNAME:Vivere Vital - Buchungs-Seite
X-ORIGINAL-URL:https://shop.vivere-vital.de/produkt/yin-soul-yoga-retreat-wandern-oktober-2026-nrw/
X-WR-CALDESC:Yin &amp; Soul Motion Yoga Retreat, Mind Detox, Wandern | Herzensruhe &amp; innere Harmonie spüren
BEGIN:VTIMEZONE
TZID:Europe/Helsinki
END:VTIMEZONE
BEGIN:VEVENT
DTSTART;TZID=Europe/Helsinki:20261018T180000
DTEND;TZID=Europe/Helsinki:20261023T130000
DTSTAMP:20260421T082842
UID:35805-simon.meyer78@gmail.com
SUMMARY:Yin & Soul Motion Yoga Retreat, Mind Detox, Wandern | Herzensruhe & innere Harmonie spüren
DESCRIPTION:Tanke neue Energie mit Astrid - Auszeit im Kloster mit einer Yoga Wander Woche in den Herbstferien, um Deine innere Ruhe zu stärken.
URL:https://shop.vivere-vital.de/produkt/yin-soul-yoga-retreat-wandern-oktober-2026-nrw/
LOCATION:Kloster Steinfeld, Hermann-Josef-Str. 4, 53925 Kall-Steinfeld
END:VEVENT
END:VCALENDAR
