BEGIN:VCALENDAR
VERSION:2.0
PRODID:-//Vivere Vital - Buchungs-Seite
CALSCALE:GREGORIAN
METHOD:PUBLISH
X-WR-CALNAME:Vivere Vital - Buchungs-Seite
X-ORIGINAL-URL:https://shop.vivere-vital.de/produkt/slow-yoga-retreat-in-kloster-innere-ruhe-juli-2026/
X-WR-CALDESC:Slow &amp; relax Yin Yoga Retreat im Kloster – zurück zu dir
BEGIN:VTIMEZONE
TZID:Europe/Helsinki
END:VTIMEZONE
BEGIN:VEVENT
DTSTART;TZID=Europe/Helsinki:20260717T180000
DTEND;TZID=Europe/Helsinki:20260719T130000
DTSTAMP:20260421T082756
UID:35585-simon.meyer78@gmail.com
SUMMARY:Slow & relax Yin Yoga Retreat im Kloster – zurück zu dir
DESCRIPTION:Slow Yoga &amp; Relax Yin Yoga Retreat im Kloster - innere Harmonie spüren | mit Cornelia Thiele.
URL:https://shop.vivere-vital.de/produkt/slow-yoga-retreat-in-kloster-innere-ruhe-juli-2026/
LOCATION:Kloster Steinfeld, Hermann-Josef-Str. 4, 53925 Kall-Steinfeld
END:VEVENT
END:VCALENDAR
