BEGIN:VCALENDAR
VERSION:2.0
PRODID:-//Vivere Vital - Buchungs-Seite
CALSCALE:GREGORIAN
METHOD:PUBLISH
X-WR-CALNAME:Vivere Vital - Buchungs-Seite
X-ORIGINAL-URL:https://shop.vivere-vital.de/produkt/soul-yoga-retreat-september-entspannung-mit-meditation/
X-WR-CALDESC:Soul &amp; Yin Yoga Retreat &#8211; Entspannung mit Meditation
BEGIN:VTIMEZONE
TZID:Europe/Helsinki
END:VTIMEZONE
BEGIN:VEVENT
DTSTART;TZID=Europe/Helsinki:20260904T180000
DTEND;TZID=Europe/Helsinki:20260906T130000
DTSTAMP:20260421T125137
UID:35219-simon.meyer78@gmail.com
SUMMARY:Soul & Yin Yoga Retreat – Entspannung mit Meditation
DESCRIPTION:Soul &amp; Yin Yoga Retreat, Meditation &amp; Entspannung im Kloster Steinfeld.
URL:https://shop.vivere-vital.de/produkt/soul-yoga-retreat-september-entspannung-mit-meditation/
LOCATION:Kloster Steinfeld, Hermann-Josef-Str. 4, 53925 Kall-Steinfeld
END:VEVENT
END:VCALENDAR
