BEGIN:VCALENDAR
VERSION:2.0
PRODID:-//Vivere Vital - Buchungs-Seite
CALSCALE:GREGORIAN
METHOD:PUBLISH
X-WR-CALNAME:Vivere Vital - Buchungs-Seite
X-ORIGINAL-URL:https://shop.vivere-vital.de/produkt/soul-yoga-retreat-mai-2026-auszeit-im-kloster/
X-WR-CALDESC:Soul Yoga meets Yin Yoga Retreat, Wandern, Achtsamkeit – innere Harmonie spüren
BEGIN:VTIMEZONE
TZID:Europe/Helsinki
END:VTIMEZONE
BEGIN:VEVENT
DTSTART;TZID=Europe/Helsinki:20260430T180000
DTEND;TZID=Europe/Helsinki:20260503T130000
DTSTAMP:20260421T101205
UID:35055-simon.meyer78@gmail.com
SUMMARY:Soul Yoga meets Yin Yoga Retreat, Wandern, Achtsamkeit – innere Harmonie spüren
DESCRIPTION:Tanke neue Energie - Soul Yoga Retreat im Kloster Steinfeld, innere Ruhe stärken mit Astrid.
URL:https://shop.vivere-vital.de/produkt/soul-yoga-retreat-mai-2026-auszeit-im-kloster/
LOCATION:Kloster Steinfeld, Hermann-Josef-Str. 4, 53925 Kall-Steinfeld
END:VEVENT
END:VCALENDAR
