BEGIN:VCALENDAR
VERSION:2.0
PRODID:-//Vivere Vital - Buchungs-Seite
CALSCALE:GREGORIAN
METHOD:PUBLISH
X-WR-CALNAME:Vivere Vital - Buchungs-Seite
X-ORIGINAL-URL:https://shop.vivere-vital.de/produkt/qigong-retreat-im-kloster-mit-meditation-wandern-woche/
X-WR-CALDESC:Mind Detox: Qigong Retreat im Kloster mit Meditation, Wandern &#8211; innere Ruhe &amp; Balance spüren
BEGIN:VTIMEZONE
TZID:Europe/Helsinki
END:VTIMEZONE
BEGIN:VEVENT
DTSTART;TZID=Europe/Helsinki:20260802T180000
DTEND;TZID=Europe/Helsinki:20260807T130000
DTSTAMP:20260421T114354
UID:35036-simon.meyer78@gmail.com
SUMMARY:Mind Detox: Qigong Retreat im Kloster mit Meditation, Wandern – innere Ruhe & Balance spüren
DESCRIPTION:Gedankenruhe: Qigong Retreat im Kloster mit Meditation und Wandern in den Sommerferien - mit Jutta
URL:https://shop.vivere-vital.de/produkt/qigong-retreat-im-kloster-mit-meditation-wandern-woche/
LOCATION:Kloster Steinfeld, Hermann-Josef-Str. 4, 53925 Kall-Steinfeld
END:VEVENT
END:VCALENDAR
