BEGIN:VCALENDAR
VERSION:2.0
PRODID:-//Vivere Vital - Buchungs-Seite
CALSCALE:GREGORIAN
METHOD:PUBLISH
X-WR-CALNAME:Vivere Vital - Buchungs-Seite
X-ORIGINAL-URL:https://shop.vivere-vital.de/produkt/fuer-simin-im-april-2026/
X-WR-CALDESC:Soul meets Yin Yoga Retreat im Kloster – Entspannung &amp; innere Harmonie mit Klangschalen
BEGIN:VTIMEZONE
TZID:Europe/Helsinki
END:VTIMEZONE
BEGIN:VEVENT
DTSTART;TZID=Europe/Helsinki:20260424T180000
DTEND;TZID=Europe/Helsinki:20260426T130000
DTSTAMP:20260421T082739
UID:34809-simon.meyer78@gmail.com
SUMMARY:Soul meets Yin Yoga Retreat im Kloster – Entspannung & innere Harmonie mit Klangschalen
DESCRIPTION:Stärke bei diesem achtsamen Slow Yoga Retreat Deine innere Ruhe &amp; tanke neue Energie mit Natalya. &nbsp;
URL:https://shop.vivere-vital.de/produkt/fuer-simin-im-april-2026/
LOCATION:Kloster Steinfeld, Hermann-Josef-Str. 4, 53925 Kall-Steinfeld
END:VEVENT
END:VCALENDAR
