BEGIN:VCALENDAR
VERSION:2.0
PRODID:-//Vivere Vital - Buchungs-Seite
CALSCALE:GREGORIAN
METHOD:PUBLISH
X-WR-CALNAME:Vivere Vital - Buchungs-Seite
X-ORIGINAL-URL:https://shop.vivere-vital.de/produkt/slow-yoga-retreat-meditation-achtsamkeit-innere-ruhe-oktober-2026/
X-WR-CALDESC:Slow &amp; Yin Yoga Retreat im Kloster – Meditation, Achtsamkeit &amp; innere Ruhe
BEGIN:VTIMEZONE
TZID:Europe/Helsinki
END:VTIMEZONE
BEGIN:VEVENT
DTSTART;TZID=Europe/Helsinki:20261030T180000
DTEND;TZID=Europe/Helsinki:20261101T130000
DTSTAMP:20260421T082842
UID:34490-simon.meyer78@gmail.com
SUMMARY:Slow & Yin Yoga Retreat im Kloster – Meditation, Achtsamkeit & innere Ruhe
DESCRIPTION:Slow Yoga &amp; Relax Yin Yoga Retreat im Kloster - innere Ruhe &amp; Harmonie spüren | mit Anja.
URL:https://shop.vivere-vital.de/produkt/slow-yoga-retreat-meditation-achtsamkeit-innere-ruhe-oktober-2026/
LOCATION:Kloster Steinfeld, Hermann-Josef-Str. 4, 53925 Kall-Steinfeld
END:VEVENT
END:VCALENDAR
