BEGIN:VCALENDAR
VERSION:2.0
PRODID:-//Vivere Vital - Buchungs-Seite
CALSCALE:GREGORIAN
METHOD:PUBLISH
X-WR-CALNAME:Vivere Vital - Buchungs-Seite
X-ORIGINAL-URL:https://shop.vivere-vital.de/produkt/bildungsurlaub-kloster-steinfeld-mit-yoga-und-achtsamkeit-september-2026/
X-WR-CALDESC:Stressbewältigung im (Berufs-)Alltag – Gelassenheit entwickeln mit Yoga, Achtsamkeit &amp; Selbstfürsorge
BEGIN:VTIMEZONE
TZID:Europe/Helsinki
END:VTIMEZONE
BEGIN:VEVENT
DTSTART;TZID=Europe/Helsinki:20260914T103000
DTEND;TZID=Europe/Helsinki:20260918T150000
DTSTAMP:20260421T082756
UID:33816-simon.meyer78@gmail.com
SUMMARY:Stressbewältigung im (Berufs-)Alltag – Gelassenheit entwickeln mit Yoga, Achtsamkeit & Selbstfürsorge
DESCRIPTION:Bildungsurlaub mit Yoga und Achtsamkeit im Kloster Steinfeld - Stressbewältigung für den (Berufs-) Alltag mit Madleen.
URL:https://shop.vivere-vital.de/produkt/bildungsurlaub-kloster-steinfeld-mit-yoga-und-achtsamkeit-september-2026/
LOCATION:Kloster Steinfeld, Hermann-Josef-Str. 4, 53925 Kall-Steinfeld
END:VEVENT
END:VCALENDAR
