BEGIN:VCALENDAR
VERSION:2.0
PRODID:-//Vivere Vital - Buchungs-Seite
CALSCALE:GREGORIAN
METHOD:PUBLISH
X-WR-CALNAME:Vivere Vital - Buchungs-Seite
X-ORIGINAL-URL:https://shop.vivere-vital.de/produkt/slow-yoga-retreat-kloster-november-2026/
X-WR-CALDESC:Slow Yoga mit Achtsamkeit &amp; Meditation &#8211; Gelassenheit stärken
BEGIN:VTIMEZONE
TZID:Europe/Helsinki
END:VTIMEZONE
BEGIN:VEVENT
DTSTART;TZID=Europe/Helsinki:20261120T180000
DTEND;TZID=Europe/Helsinki:20261122T130000
DTSTAMP:20260421T130929
UID:33595-simon.meyer78@gmail.com
SUMMARY:Slow Yoga mit Achtsamkeit & Meditation – Gelassenheit stärken
DESCRIPTION:Stärke bei diesem achtsamen Yoga Retreat Deine innere Gelassenheit &amp; tanke neue Energie mit Doris. &nbsp;
URL:https://shop.vivere-vital.de/produkt/slow-yoga-retreat-kloster-november-2026/
LOCATION:Kloster Steinfeld, Hermann-Josef-Str. 4, 53925 Kall-Steinfeld
END:VEVENT
END:VCALENDAR
