BEGIN:VCALENDAR
VERSION:2.0
PRODID:-//Vivere Vital - Buchungs-Seite
CALSCALE:GREGORIAN
METHOD:PUBLISH
X-WR-CALNAME:Vivere Vital - Buchungs-Seite
X-ORIGINAL-URL:https://shop.vivere-vital.de/produkt/slow-yoga-yin-yoga-retreat-im-kloster-dezember-2026-innere-ruhe/
X-WR-CALDESC:Slow &amp; restorativen Yin Yoga, Meditation meets Crystal Bowls
BEGIN:VTIMEZONE
TZID:Europe/Helsinki
END:VTIMEZONE
BEGIN:VEVENT
DTSTART;TZID=Europe/Helsinki:20261211T180000
DTEND;TZID=Europe/Helsinki:20261213T130000
DTSTAMP:20260421T130956
UID:33587-simon.meyer78@gmail.com
SUMMARY:Slow & restorativen Yin Yoga, Meditation meets Crystal Bowls
DESCRIPTION:Stärke an diesem achtsamen Slow &amp; Yin Yoga Retreat im Dezember Deine innere Ruhe &amp; tanke neue Energie mit Britta. &nbsp;
URL:https://shop.vivere-vital.de/produkt/slow-yoga-yin-yoga-retreat-im-kloster-dezember-2026-innere-ruhe/
LOCATION:Kloster Steinfeld, Hermann-Josef-Str. 4, 53925 Kall-Steinfeld
END:VEVENT
END:VCALENDAR
